BEGIN:VCALENDAR
VERSION:2.0
PRODID:-//Hospice - ECPv6.4.0.1//NONSGML v1.0//EN
CALSCALE:GREGORIAN
METHOD:PUBLISH
X-ORIGINAL-URL:https://www.hospicepiacenza.it
X-WR-CALDESC:Eventi per Hospice
REFRESH-INTERVAL;VALUE=DURATION:PT1H
X-Robots-Tag:noindex
X-PUBLISHED-TTL:PT1H
BEGIN:VTIMEZONE
TZID:Europe/Rome
BEGIN:DAYLIGHT
TZOFFSETFROM:+0100
TZOFFSETTO:+0200
TZNAME:CEST
DTSTART:20190331T010000
END:DAYLIGHT
BEGIN:STANDARD
TZOFFSETFROM:+0200
TZOFFSETTO:+0100
TZNAME:CET
DTSTART:20191027T010000
END:STANDARD
END:VTIMEZONE
BEGIN:VEVENT
DTSTART;TZID=Europe/Rome:20190803T183000
DTEND;TZID=Europe/Rome:20190803T203000
DTSTAMP:20260423T115329
CREATED:20190710T154028Z
LAST-MODIFIED:20190927T083006Z
UID:625-1564857000-1564864200@www.hospicepiacenza.it
SUMMARY:Ride of the mines
DESCRIPTION:
URL:https://www.hospicepiacenza.it/evento/ride-of-the-mines/
LOCATION:Comune di Ferriere\, piazza Miniere 1\, Ferriere\, PC\, 29121\, Italia
CATEGORIES:Evidenza
ATTACH;FMTTYPE=image/jpeg:https://www.hospicepiacenza.it/wp-content/uploads/2019/07/IMG-20190710-WA0027.jpg
END:VEVENT
BEGIN:VEVENT
DTSTART;TZID=Europe/Rome:20190812T200000
DTEND;TZID=Europe/Rome:20190812T233000
DTSTAMP:20260423T115329
CREATED:20190807T080446Z
LAST-MODIFIED:20190807T080446Z
UID:708-1565640000-1565652600@www.hospicepiacenza.it
SUMMARY:Notte Queen
DESCRIPTION:Lunedì 12 Agosto alla Piazza delle Miniere di Ferriere\, si terrà la Notte Queen!\nUna grande serata benefica\, il cui ricavato sarà devoluto al nostro Hospice\, La Casa di Iris.\nIl cantante piacentino Marco Rancati e la band Shout interpreteranno i pezzi degli intramontabili Queen.\nVi aspettiamo con tanti stand gastronomici e questa ottima musica per una serata insieme.
URL:https://www.hospicepiacenza.it/evento/notte-queen/
LOCATION:Piazza delle Miniere\, Piazza delle miniere\, Ferriere\, 29024\, Italia
CATEGORIES:Evidenza
ATTACH;FMTTYPE=image/jpeg:https://www.hospicepiacenza.it/wp-content/uploads/2019/08/Notte-Queen.jpeg
ORGANIZER;CN="Hospice - La Casa di Iris":MAILTO:info@hospicepiacenza.it
END:VEVENT
END:VCALENDAR