BEGIN:VCALENDAR
VERSION:2.0
PRODID:-//Hospice - ECPv6.4.0.1//NONSGML v1.0//EN
CALSCALE:GREGORIAN
METHOD:PUBLISH
X-WR-CALNAME:Hospice
X-ORIGINAL-URL:https://www.hospicepiacenza.it
X-WR-CALDESC:Eventi per Hospice
REFRESH-INTERVAL;VALUE=DURATION:PT1H
X-Robots-Tag:noindex
X-PUBLISHED-TTL:PT1H
BEGIN:VTIMEZONE
TZID:Europe/Rome
BEGIN:DAYLIGHT
TZOFFSETFROM:+0100
TZOFFSETTO:+0200
TZNAME:CEST
DTSTART:20190331T010000
END:DAYLIGHT
BEGIN:STANDARD
TZOFFSETFROM:+0200
TZOFFSETTO:+0100
TZNAME:CET
DTSTART:20191027T010000
END:STANDARD
END:VTIMEZONE
BEGIN:VEVENT
DTSTART;TZID=Europe/Rome:20190914T150000
DTEND;TZID=Europe/Rome:20190915T220000
DTSTAMP:20260423T101207
CREATED:20190819T141741Z
LAST-MODIFIED:20190819T142613Z
UID:730-1568473200-1568584800@www.hospicepiacenza.it
SUMMARY:Sport 24h
DESCRIPTION:Sabato 14 e domenica 15 Settembre in diversi punti della città di Piacenza si svolgeranno 24 sport differenti in una 24 ore no stop unica nella storia della nostra città. \nDalle ore 15:00 di sabato 14\, alle ore 22:00 di domenica 15\, i 23 sport saranno tenuti in altrettante location che costellano la nostra provincia. \nUN EVENTO IN COLLABORAZIONE CON CONI PIACENZA E IL PATROCINIO DELLA COMMISSIONE EUROPEA \nScopri di più nella pagina dedicata
URL:https://www.hospicepiacenza.it/evento/sport-24h/
LOCATION:piacenza\, via Di Vittorio\, Piacenza\, 29121\, Italia
CATEGORIES:Evidenza
ATTACH;FMTTYPE=image/jpeg:https://www.hospicepiacenza.it/wp-content/uploads/2019/07/sport-24-mobile.jpg
ORGANIZER;CN="Hospice - La Casa di Iris":MAILTO:info@hospicepiacenza.it
END:VEVENT
BEGIN:VEVENT
DTSTART;TZID=Europe/Rome:20190922T170000
DTEND;TZID=Europe/Rome:20190922T190000
DTSTAMP:20260423T101207
CREATED:20190917T135034Z
LAST-MODIFIED:20190917T135958Z
UID:1193-1569171600-1569178800@www.hospicepiacenza.it
SUMMARY:2 Ore di Clycling
DESCRIPTION:Il Comune di Cortemaggiore\, con “100 Volantini per Iris” presentano l’evento “2 Ore di Cycling”\, che si terrà Domenica 22 Settembre\, in Piazza Patrioti a Cortemaggiore. \nLaura e Matteo H 17/18\nGigi e Anto H 18/19 \nVi aspettiamo numerosi!\nPer info e prenotazioni: \nSimona D. 339 3563903\nAnto 335 8328480\nSimona S. 335 8369776
URL:https://www.hospicepiacenza.it/evento/2-ore-di-clycling/
LOCATION:Piazza Patrioti Cortemaggiore\, Piazza Patrioti\, Cortemaggiore\, 29016\, Italia
CATEGORIES:Evidenza
ATTACH;FMTTYPE=image/jpeg:https://www.hospicepiacenza.it/wp-content/uploads/2019/09/2-ore-di-cycling.jpg
END:VEVENT
END:VCALENDAR